BEGIN:VCALENDAR
PRODID:-//github.com/rianjs/ical.net//NONSGML ical.net 4.0//EN
VERSION:2.0
BEGIN:VEVENT
CATEGORIES:Arts
CATEGORIES:Art
CATEGORIES:Meeting
CATEGORIES:Music
CATEGORIES:Social
DESCRIPTION:Come enjoy an hour of unstructured social time with the galler
 y crew. Check out current exhibitions and learn more about future events.
  Tea and snacks are free to enjoy. 2:30 - 3:30\, every Tuesday at the Mem
 orial Union Gallery. \n\nHosted by: Memorial Union Gallery\n\nAdditional 
 Information can be found at: https://myndsu.ndsu.edu/event/12204022
DTEND:20260428T203000Z
DTSTAMP:20260422T085839Z
DTSTART:20260428T193000Z
LOCATION:MU Gallery
SEQUENCE:0
STATUS:CONFIRMED
SUMMARY:Tea Time Social Hour
UID:https://myndsu.ndsu.edu/event/12204022
URL:https://myndsu.ndsu.edu/event/12204022
X-HOSTS:Memorial Union Gallery
END:VEVENT
END:VCALENDAR
